BEGIN:VCALENDAR
VERSION:2.0
PRODID:-//147.100.242.14//NONSGML kigkonsult.se iCalcreator 2.41.92//
CALSCALE:GREGORIAN
UID:62643835-3530-4766-b737-386232346236
X-WR-TIMEZONE:Europe/Paris
BEGIN:VTIMEZONE
TZID:Europe/Paris
TZUNTIL:20280326T010000Z
BEGIN:STANDARD
TZNAME:CET
DTSTART:20251026T030000
TZOFFSETFROM:+0200
TZOFFSETTO:+0100
RDATE:20261025T030000
RDATE:20271031T030000
END:STANDARD
BEGIN:DAYLIGHT
TZNAME:CEST
DTSTART:20260329T020000
TZOFFSETFROM:+0100
TZOFFSETTO:+0200
RDATE:20270328T020000
END:DAYLIGHT
END:VTIMEZONE
BEGIN:VEVENT
UID:32663366-6237-4631-a633-626365626534
DTSTAMP:20260424T085219Z
DTSTART:20260920T160000Z
DTEND:20260923T160000Z
LOCATION:Maison des Sciences de l'Homme en Bretagne - Rennes
SUMMARY:EGRIE 2026
URL:https://egrie2026.fr
END:VEVENT
END:VCALENDAR
